BEGIN:VCALENDAR
VERSION:2.0
PRODID:-//Parentalité Réseau Manche - ECPv4.9.12//NONSGML v1.0//EN
CALSCALE:GREGORIAN
METHOD:PUBLISH
X-WR-CALNAME:Parentalité Réseau Manche
X-ORIGINAL-URL:https://www.reseau-parental50.net
X-WR-CALDESC:Évènements pour Parentalité Réseau Manche
BEGIN:VTIMEZONE
TZID:UTC
BEGIN:STANDARD
TZOFFSETFROM:+0000
TZOFFSETTO:+0000
TZNAME:UTC
DTSTART:20210101T000000
END:STANDARD
END:VTIMEZONE
BEGIN:VEVENT
DTSTART;VALUE=DATE:20210206
DTEND;VALUE=DATE:20210207
DTSTAMP:20260424T082811
CREATED:20210121T172555Z
LAST-MODIFIED:20210122T090349Z
UID:11011-1612569600-1612655999@www.reseau-parental50.net
SUMMARY:Après-midi cocooning des mamans!
DESCRIPTION:Chères mamans\, prenez du temps pour vous! On vous aide à vous l’accorder avec un après-midi détente\, cosmétique bio\, manucure et beauté des mains à l’Espace des parents!!\nUne intervenante esthéticienne sera présente lors cet après-midi de rencontres autour de l’estime de soi. INSCRIPTION OBLIGATOIRE \n
URL:https://www.reseau-parental50.net/action/apres-midi-cocooning-des-mamans/
LOCATION:Association Familles Rurales Région de Daye Espace parents\, 2 rue de la libération\, St Jean de Daye\, 50620\, France
CATEGORIES:Actions locales,Centre
ATTACH;FMTTYPE=image/jpeg:https://www.reseau-parental50.net/wp-content/uploads/2021/01/Atelier-coconning.jpg
END:VEVENT
END:VCALENDAR