BEGIN:VCALENDAR
VERSION:2.0
PRODID:-//Parentalité Réseau Manche - ECPv4.9.12//NONSGML v1.0//EN
CALSCALE:GREGORIAN
METHOD:PUBLISH
X-WR-CALNAME:Parentalité Réseau Manche
X-ORIGINAL-URL:https://www.reseau-parental50.net
X-WR-CALDESC:Évènements pour Parentalité Réseau Manche
BEGIN:VTIMEZONE
TZID:UTC
BEGIN:STANDARD
TZOFFSETFROM:+0000
TZOFFSETTO:+0000
TZNAME:UTC
DTSTART:20210101T000000
END:STANDARD
END:VTIMEZONE
BEGIN:VEVENT
DTSTART;VALUE=DATE:20210605
DTEND;VALUE=DATE:20210606
DTSTAMP:20260424T070447
CREATED:20210527T101111Z
LAST-MODIFIED:20210527T104340Z
UID:11122-1622851200-1622937599@www.reseau-parental50.net
SUMMARY:Café des parents "Le rôle et la place des grands-parents dans l'éducation"
DESCRIPTION:Le samedi matin\, à l’espace des parents on papotte… ce mois-ci on parle de la place des grand-parents dans l’éducation… N’hésitez pas à vous inscrire le café sera chaud et les petits gâteaux seront de sortie… \n
URL:https://www.reseau-parental50.net/action/cafe-des-parents-le-role-et-la-place-des-grands-parents-dans-leducation/
LOCATION:Association Familles Rurales Région de Daye Espace parents\, 2 rue de la libération\, St Jean de Daye\, 50620\, France
CATEGORIES:Actions locales,Centre
ATTACH;FMTTYPE=image/jpeg:https://www.reseau-parental50.net/wp-content/uploads/2021/05/Copie-de-Copie-de-petits-déJEUX-ners-1.jpg
END:VEVENT
END:VCALENDAR