BEGIN:VCALENDAR
VERSION:2.0
PRODID:-//Parentalité Réseau Manche - ECPv4.9.12//NONSGML v1.0//EN
CALSCALE:GREGORIAN
METHOD:PUBLISH
X-WR-CALNAME:Parentalité Réseau Manche
X-ORIGINAL-URL:https://www.reseau-parental50.net
X-WR-CALDESC:Évènements pour Parentalité Réseau Manche
BEGIN:VTIMEZONE
TZID:UTC
BEGIN:STANDARD
TZOFFSETFROM:+0000
TZOFFSETTO:+0000
TZNAME:UTC
DTSTART:20220101T000000
END:STANDARD
END:VTIMEZONE
BEGIN:VEVENT
DTSTART;TZID=UTC:20220304T203000
DTEND;TZID=UTC:20220304T223000
DTSTAMP:20260424T082904
CREATED:20220218T085656Z
LAST-MODIFIED:20220218T085859Z
UID:11535-1646425800-1646433000@www.reseau-parental50.net
SUMMARY:Café-parents "Comment trouver les bons mots avec nos enfants et nos ados ? "
DESCRIPTION:Lors de ces rencontres entre parents\, c’est l’occasion de venir échanger\, parler de vos expériences et vécus\, vos questionnements. Un intervenant est présent pour répondre à vos questions\, et vous donner de multiples informations \, pistes de réflexions sur diverses thématiques en lien avec la parentalité\, la famille\, l’éducation… \n« Comment trouver les bons mots avec nos enfants et nos ados »  \nCertains sujets ne sont pas toujours facile à aborder avec les enfants\, en fonction de leur âge. Comment répondre aux questionnements des  enfants sur la mort\, la santé\, les relations amoureuses chez les ados …. ?  \nComment adapter les réponses en tant que parents ?  \nRenseignements et inscriptions auprès d’Aurélie Tournerie\, Référente Famille Forum du Mortainais \, 02.33.19.08.98. \n  \n  \n
URL:https://www.reseau-parental50.net/action/cafe-parents-comment-trouver-les-bons-mots-avec-nos-enfants-et-nos-ados/
LOCATION:Forum du Mortainais\, 24 Rue du Rocher\, Mortain-Bocage\, 50140\, France
CATEGORIES:Actions locales,Sud
ATTACH;FMTTYPE=image/jpeg:https://www.reseau-parental50.net/wp-content/uploads/2022/02/Affiche_Cafe_Parents_mots.jpg
END:VEVENT
END:VCALENDAR