BEGIN:VCALENDAR
VERSION:2.0
PRODID:-//Parentalité Réseau Manche - ECPv4.9.12//NONSGML v1.0//EN
CALSCALE:GREGORIAN
METHOD:PUBLISH
X-WR-CALNAME:Parentalité Réseau Manche
X-ORIGINAL-URL:https://www.reseau-parental50.net
X-WR-CALDESC:Évènements pour Parentalité Réseau Manche
BEGIN:VTIMEZONE
TZID:UTC
BEGIN:STANDARD
TZOFFSETFROM:+0000
TZOFFSETTO:+0000
TZNAME:UTC
DTSTART:20220101T000000
END:STANDARD
END:VTIMEZONE
BEGIN:VEVENT
DTSTART;TZID=UTC:20220303T203000
DTEND;TZID=UTC:20220303T223000
DTSTAMP:20260424T101227
CREATED:20220222T170933Z
LAST-MODIFIED:20220222T171202Z
UID:11542-1646339400-1646346600@www.reseau-parental50.net
SUMMARY:Ciné rencontre à Coutances
DESCRIPTION: \n
URL:https://www.reseau-parental50.net/action/cine-rencontre/
LOCATION:Cinéma Le Long-Court\, 24 Rue Saint-Maur\, Coutances\, 50200\, France
CATEGORIES:Actions locales,Centre
ATTACH;FMTTYPE=image/jpeg:https://www.reseau-parental50.net/wp-content/uploads/2022/02/RECTO.jpg
END:VEVENT
END:VCALENDAR