BEGIN:VCALENDAR
VERSION:2.0
PRODID:-//Parentalité Réseau Manche - ECPv4.9.12//NONSGML v1.0//EN
CALSCALE:GREGORIAN
METHOD:PUBLISH
X-WR-CALNAME:Parentalité Réseau Manche
X-ORIGINAL-URL:https://www.reseau-parental50.net
X-WR-CALDESC:Évènements pour Parentalité Réseau Manche
BEGIN:VTIMEZONE
TZID:UTC
BEGIN:STANDARD
TZOFFSETFROM:+0000
TZOFFSETTO:+0000
TZNAME:UTC
DTSTART:20220101T000000
END:STANDARD
END:VTIMEZONE
BEGIN:VEVENT
DTSTART;TZID=UTC:20220303T163000
DTEND;TZID=UTC:20220303T180000
DTSTAMP:20260424T113242
CREATED:20220225T175605Z
LAST-MODIFIED:20220225T175605Z
UID:11549-1646325000-1646330400@www.reseau-parental50.net
SUMMARY:Le café des parents
DESCRIPTION:Un jeudi par mois la référente parentalité vous accueille pour un temps de rencontres et de partages salle motricité de l’école Maupas à Percy de 16h30 à 18h \nprogramme des thématiques : \nJeudi 03 mars : les écrans en famille \nJeudi 07 avril : l’aide aux devoirs \njeudi 05 mais : l’entrée en 6ème \njeudi 02 juin l’accès aux droits\, aides possibles\, ressources \ninfos auprès d’Angélique BERNARDIN / 02.33.90.17.90 / parentalite@villedieuintercom.fr \n
URL:https://www.reseau-parental50.net/action/le-cafe-des-parents/
LOCATION:Salle motricité de l’école Maupas\, 4 Rue Dufouc\, Percy-en-Normandie\, 50410\, France
CATEGORIES:Actions locales,Centre
ATTACH;FMTTYPE=image/jpeg:https://www.reseau-parental50.net/wp-content/uploads/2022/02/Le-café-des-parents-3_page-0001.jpg
END:VEVENT
END:VCALENDAR