BEGIN:VCALENDAR
VERSION:2.0
PRODID:-//Parentalité Réseau Manche - ECPv4.9.12//NONSGML v1.0//EN
CALSCALE:GREGORIAN
METHOD:PUBLISH
X-WR-CALNAME:Parentalité Réseau Manche
X-ORIGINAL-URL:https://www.reseau-parental50.net
X-WR-CALDESC:Évènements pour Parentalité Réseau Manche
BEGIN:VTIMEZONE
TZID:UTC
BEGIN:STANDARD
TZOFFSETFROM:+0000
TZOFFSETTO:+0000
TZNAME:UTC
DTSTART:20230101T000000
END:STANDARD
END:VTIMEZONE
BEGIN:VEVENT
DTSTART;VALUE=DATE:20230318
DTEND;VALUE=DATE:20230319
DTSTAMP:20260423T083913
CREATED:20230224T115640Z
LAST-MODIFIED:20230224T115640Z
UID:11926-1679097600-1679183999@www.reseau-parental50.net
SUMMARY:SEMAINE DE LA PETITE ENFANCE
DESCRIPTION:La Semaine de la Petite Enfance revient du samedi 18 au samedi 25 mars 2023 ! Coordonnée par la Communauté de Communes Côte Ouest Centre Manche et la Maison du Pays de Lessay\, cette 10e édition proposera de nombreux ateliers gratuits à destination des professionnels de la petite enfance\, des familles et des enfants de 0 à 618.03.2023 ans.\nUn programme riche\nCette année\, une cinquantaine d’animations seront proposées aux familles par les structures participantes dans 6 communes du territoire de la Communauté de Communes COCM. Ce programme est le résultat d’une collaboration entre tous les partenaires « petite enfance » qui œuvrent autour d’un objectif commun : faire vivre et faire découvrir les animations existantes du territoire aux services des familles et des enfants de 0 à 6 ans. En tout\, ces sont 29 structures qui ont imaginé une semaine haute en couleurs pour nos tout-petits : Ecoles\, Accueil de loisirs\, Relais Petite enfance\, Animations familles\, Lieu d’accueil enfants parents\, les bibliothèques et médiathèques de Bretteville-sur-Ay\, La Haye\, Lessay\, Créances et Périers. \nAu programme :\n• Une animation en fil rouge sur toute la semaine : le bâton de pluie. Venez fabriquer votre bâton de pluie\, décorez\, transvasez\, manipulez et le tour est joué !\n• Une soirée d’échange et de partage sur le thème « Apprivoiser son rôle de Parent » avec l’intervention de Caroline FOUCHER. Mardi 21 mars à 20h30 à Périers. Cette conférence aura lieu au pôle communautaire de Périers (4 place du Fairage).\n• Un bal d’enfants où chanter et danser au son de la guitare de François CORVELLEC. Mercredi 22 mars à 15h30 à la salle socioculturelle de Lessay.\n• Un Café Philo : « Grandir\, une affaire de famille ! »\, un atelier réservé aux parents et aux grands-parents invitant à l’échange et à la réflexion sur la signification de « grandir » au sein d’une famille et du rôle de parent. Jeudi 23 mars à 20h30 à la médiathèque de La Haye.\n• Un spectacle musical « A pas de loups » avec la compagnie « La petite mélodie ». Samedi 25 mars à 10h30 à la salle Saint-Cloud de Lessay.\n• Le spectacle « Pareodolies Collectif Murmures du son ». Samedi 25 mars à 15h à la médiathèque de La Haye.\n• Des ateliers atypiques : lecture POP\, peinture façon Andy Warhol\, cuisine cake POP\, balade contée\, et bien sûr des éveils musicaux Montessori\, des jeux extérieurs\, des instants récrés\, de la motricité et plein d’autres choses ! \nRetrouvez tout le programme des activités sur www.cocm.fr. \n
URL:https://www.reseau-parental50.net/action/semaine-de-la-petite-enfance/
CATEGORIES:Actions locales,Centre
ATTACH;FMTTYPE=image/jpeg:https://www.reseau-parental50.net/wp-content/uploads/2023/02/Affiche-A3-SPE-2023-.jpg
END:VEVENT
END:VCALENDAR