BEGIN:VCALENDAR
VERSION:2.0
PRODID:-//Parentalité Réseau Manche - ECPv4.9.12//NONSGML v1.0//EN
CALSCALE:GREGORIAN
METHOD:PUBLISH
X-WR-CALNAME:Parentalité Réseau Manche
X-ORIGINAL-URL:https://www.reseau-parental50.net
X-WR-CALDESC:Évènements pour Parentalité Réseau Manche
BEGIN:VTIMEZONE
TZID:UTC
BEGIN:STANDARD
TZOFFSETFROM:+0000
TZOFFSETTO:+0000
TZNAME:UTC
DTSTART:20220101T000000
END:STANDARD
END:VTIMEZONE
BEGIN:VEVENT
DTSTART;TZID=UTC:20220402T140000
DTEND;TZID=UTC:20220402T160000
DTSTAMP:20260423T172753
CREATED:20220331T074432Z
LAST-MODIFIED:20220331T080027Z
UID:11570-1648908000-1648915200@www.reseau-parental50.net
SUMMARY:Sophrologie parents
DESCRIPTION:Samedi 2 avril\, on se détend\, on se relaxe\, on prend du temps pour soi avec Michèle Letellier\, sophrologue. \n
URL:https://www.reseau-parental50.net/action/sophrologie-parents/
LOCATION:Salle de réunion de la pépinière d’entreprise Saint-James\, 2 rue d'Avranches\, Saint-James\, 50240\, France
CATEGORIES:Actions locales,Sud
ATTACH;FMTTYPE=image/png:https://www.reseau-parental50.net/wp-content/uploads/2022/03/Sophro-parents.png
END:VEVENT
END:VCALENDAR