BEGIN:VCALENDAR
VERSION:2.0
PRODID:-//Parentalité Réseau Manche - ECPv4.9.12//NONSGML v1.0//EN
CALSCALE:GREGORIAN
METHOD:PUBLISH
X-WR-CALNAME:Parentalité Réseau Manche
X-ORIGINAL-URL:https://www.reseau-parental50.net
X-WR-CALDESC:Évènements pour Parentalité Réseau Manche
BEGIN:VTIMEZONE
TZID:UTC
BEGIN:STANDARD
TZOFFSETFROM:+0000
TZOFFSETTO:+0000
TZNAME:UTC
DTSTART:20220101T000000
END:STANDARD
END:VTIMEZONE
BEGIN:VEVENT
DTSTART;TZID=UTC:20220208T143000
DTEND;TZID=UTC:20220208T170000
DTSTAMP:20260424T083406
CREATED:20220127T143444Z
LAST-MODIFIED:20220127T143444Z
UID:11523-1644330600-1644339600@www.reseau-parental50.net
SUMMARY:Stage en famille(s) à St Clair sur l'Elle et St Jean de Daye
DESCRIPTION:\nBientôt les vacances scolaires! C’est le moment de vous faire découvrir L’Espace des parents et ces animations parents-enfants! \nSur ces deux semaines: “Stages en familles” sur le thème du Nouvel an chinois! \n1ere semaine: à St Clair sur l’Elle \n2ème semaine: à St Jean de Daye \n3 après-midis d’ateliers parents-enfants sous le thème du NOUVEL AN CHINOIS! (2€ par après-midi et par famille) \nLes mardis : Masques de dragon\,\nLes mercredis :Pâtisserie et biscuits porte bonheur …\nLes jeudis: Arts du cirque avec intervenants! \nLa compagnie LES SALTIMBRES ponctuera ces deux semaines avec les jeudis 10 et 17 février\, un atelier d’initiation aux ARTS DU CIRQUE pour petits et grands ! \nPour ces ateliers qui se dérouleront dans des salles polyvalentes municipales\, le PASS vaccinal est obligatoire. \nVENEZ NOMBREUX (parents\, grands-parents\, enfants… 😉 ) sur ces temps d’animations conçus pour vous!\nPour toutes ces dates: \nSur inscription via la page FB EspaceDesParents\, ou par mail à espacedesparents.frrd@gmail.com\nou par téléphone au 06-66-97-31-80\nNombre de places limité! \n
URL:https://www.reseau-parental50.net/action/stage-en-familles-a-st-clair-sur-lelle-et-st-jean-de-daye/
LOCATION:Maison des associations – Espace Jeunes de St Clair s/ l’Elle\, Saint Clair sur l'elle\, 50680\, France
CATEGORIES:Actions locales,Centre
ATTACH;FMTTYPE=image/jpeg:https://www.reseau-parental50.net/wp-content/uploads/2022/01/stage-famille-hiver-2022-1.jpg
END:VEVENT
END:VCALENDAR