BEGIN:VCALENDAR
VERSION:2.0
PRODID:-//Parentalité Réseau Manche - ECPv4.9.12//NONSGML v1.0//EN
CALSCALE:GREGORIAN
METHOD:PUBLISH
X-WR-CALNAME:Parentalité Réseau Manche
X-ORIGINAL-URL:https://www.reseau-parental50.net
X-WR-CALDESC:Évènements pour Parentalité Réseau Manche
BEGIN:VTIMEZONE
TZID:UTC
BEGIN:STANDARD
TZOFFSETFROM:+0000
TZOFFSETTO:+0000
TZNAME:UTC
DTSTART:20190101T000000
END:STANDARD
END:VTIMEZONE
BEGIN:VEVENT
DTSTART;VALUE=DATE:20190425
DTEND;VALUE=DATE:20200101
DTSTAMP:20260420T001101
CREATED:20190429T074756Z
LAST-MODIFIED:20190507T100417Z
UID:9213-1556150400-1577836799@www.reseau-parental50.net
SUMMARY:L' Abrik Abrak
DESCRIPTION:L’abrik abrak est l’espace d’accueil des familles de la Maison Flora Tristan\, espace solidaire de la Ville de Cherbourg Octeville. \nSitué sur le quartier des Fourches\, il offre une multitude de possibles aux familles (du quartier et d’ailleurs): accueil\, activités parents enfants\, accompagnement de projet individuels ou collectifs\, gouter philo\, café parents… \n
URL:https://www.reseau-parental50.net/action/l-abrik-abrak/
LOCATION:Maison Flora Tristan Tonneville\, 33 Rue de Bougainville\, Cherbourg-Octeville\, 50130\, France
CATEGORIES:Actions 20 ans,Nord
ATTACH;FMTTYPE=image/png:https://www.reseau-parental50.net/wp-content/uploads/2019/04/abrak.png
END:VEVENT
BEGIN:VEVENT
DTSTART;VALUE=DATE:20190429
DTEND;VALUE=DATE:20191223
DTSTAMP:20260420T001101
CREATED:20190424T195125Z
LAST-MODIFIED:20190507T095553Z
UID:9192-1556496000-1577059199@www.reseau-parental50.net
SUMMARY:Atelier parents/enfants
DESCRIPTION:Ateliers massage et portage animés par Françoise Davoury \nOrganisé par la commission parentalité du centre d’animation Les Unelles Coutances \n
URL:https://www.reseau-parental50.net/action/atelier-parents-enfants-2/
LOCATION:Les Unelles Coutances\, 11 Rue Saint-Maur\, Coutances\, 50205
CATEGORIES:Actions 20 ans,Centre
ATTACH;FMTTYPE=image/jpeg:https://www.reseau-parental50.net/wp-content/uploads/2019/04/afficheateliersparentsportage-massage-2019.jpg
END:VEVENT
BEGIN:VEVENT
DTSTART;VALUE=DATE:20190913
DTEND;VALUE=DATE:20190914
DTSTAMP:20260420T001101
CREATED:20191210T142842Z
LAST-MODIFIED:20191210T142842Z
UID:9677-1568332800-1568419199@www.reseau-parental50.net
SUMMARY:ateliers parents-enfants
DESCRIPTION:Organisés par le Pôle Enfance un vendredi sur 2 de 9h30 à 11h au Pôle enfance\nces ateliers s’adressent aux enfants de moins de 3 ans accompagné de son parent ou grand-parent. \nCes ateliers permettent de jouer\, chanter\, rencontrer d’autres enfants et d’autres parents et de passer un moment privilégié ensemble. \nGratuit\, ouvert à toutes les familles du territoire de la Communauté d’Agglomération Mont St Michel Normandie. \nInscription obligatoire au 02 33 60 48 34 ou par mail : poleenfance@musique-experience.net \nPlus d’informations : http://www.musique-experience.net/wp-content/uploads/2019/09/plaquette-parentalit%C3%A9-sept-d%C3%A9c-2019.pdf \n
URL:https://www.reseau-parental50.net/action/ateliers-parents-enfants/
LOCATION:Pôle Enfance Ducey\, Pôle Enfance 4 ruet St Aubin\, Ducey\, 50220\, France
CATEGORIES:Actions 20 ans,Sud
ATTACH;FMTTYPE=image/jpeg:https://www.reseau-parental50.net/wp-content/uploads/2019/09/plaquette-parentalité-3.jpg
END:VEVENT
END:VCALENDAR